BEGIN:VCALENDAR
VERSION:2.0
METHOD:PUBLISH
X-WR-CALNAME;VALUE=TEXT:Calendar of Events
PRODID:-//Drupal iCal API//EN
BEGIN:VEVENT
UID:c3333e1b-a186-4872-9846-a8af73fb0e30@austinisd.org
DTSTAMP:20120301T142347Z
SUMMARY:Explore UT Open House
DTSTART:20120303T170000Z
DTEND:20120303T230000Z
ORGANIZER:Austin ISD
DESCRIPTION:The University of Texas at Austin is hosting its 13th annual Ex
	plore UT\, a day of events\, performances\, exhibits\, lectures and activi
	ties for the entire family from 11 a.m. to 5 p.m.\, Saturday\, March 3. Th
	e event provides an opportunity for visitors to examine the rich and varie
	d programs that are a part of everyday life a university campus. With near
	ly 400 events and activities happening across campus\, there is something 
	for everyone. Children can test their skills while making liquid nitrogen 
	ice cream\, creating a butterfly\, building a popsicle catapult\, designin
	g miniature solar cars and engaging in dozens of other activities. High sc
	hoolers can meet with advisers\, faculty and students to learn about every
	thing from degree plans to financial aid. Parents and teachers can enjoy a
	 variety of cultural events\, exhibits\, performances\, museums and lectur
	es.For thousands of families\, school children\, and Texas citizens\, a li
	fe-long relationship with this university will start at Explore UT. Come e
	xplore\, enjoy a day of fun and learn something new. &nbsp;WHAT: Explore U
	T: Biggest Open House in TexasWHEN: 11 a.m. to 5 p.m.\, Saturday\, March 3
	WHERE: University of Texas at Austin campus. Click here for a map.Click he
	re for a full a full schedule of activities. Please continue to check this
	 site often as program details may change prior to Saturday\, March 3.Clic
	k here to visit the Explore UT web site.
LAST-MODIFIED:20120302T111720Z
END:VEVENT
END:VCALENDAR
