BEGIN:VCALENDAR
VERSION:2.0
METHOD:PUBLISH
X-WR-CALNAME;VALUE=TEXT:Calendar of Events
PRODID:-//Drupal iCal API//EN
BEGIN:VEVENT
UID:be048e0d-6248-4f51-b63c-aaf00d3f5eb1@austinisd.org
DTSTAMP:20260415T143421Z
SUMMARY:Calendar Task Force Meeting
DTSTART:20260429T223000Z
DTEND:20260429T233000Z
ORGANIZER:Austin ISD
DESCRIPTION:Virtual Meeting on Zoom The AISD Calendar Task Force is charged
	 with developing and recommending an instructionally sound calendar for th
	e 2020-2021 school year that focuses on the District’s academic mission 
	and Strategic Plan. The Task Force shall place the needs of all students f
	irst and foremost\, but shall also consider the needs of parents\, the com
	munity and district staff. More information is available on the&nbsp;Calen
	dar Task Force page.
LAST-MODIFIED:20260415T143623Z
END:VEVENT
END:VCALENDAR
