BEGIN:VCALENDAR
VERSION:2.0
METHOD:PUBLISH
X-WR-CALNAME;VALUE=TEXT:Calendar of Events
PRODID:-//Drupal iCal API//EN
BEGIN:VEVENT
UID:0ba37d02-acd6-4eae-bce3-c215aeef5bc0@austinisd.org
DTSTAMP:20260415T143421Z
SUMMARY:Calendar Task Force Meeting
DTSTART:20260422T223000Z
DTEND:20260423T003000Z
ORGANIZER:Austin ISD
DESCRIPTION:Location:&nbsp;AISD Central Office\, Room 221. The AISD Calenda
	r Task Force is charged with developing and recommending an instructionall
	y sound calendar for the 2020-2021 school year that focuses on the Distric
	t’s academic mission and Strategic Plan. The Task Force shall place the 
	needs of all students first and foremost\, but shall also consider the nee
	ds of parents\, the community and district staff. More information is avai
	lable on the&nbsp;Calendar Task Force page.
LAST-MODIFIED:20260415T143538Z
END:VEVENT
END:VCALENDAR
