BEGIN:VCALENDAR
VERSION:2.0
METHOD:PUBLISH
X-WR-CALNAME;VALUE=TEXT:Calendar of Events
PRODID:-//Drupal iCal API//EN
BEGIN:VEVENT
UID:858c3719-aa0d-4b06-bac6-5bf20c4c4e91@austinisd.org
DTSTAMP:20260415T134521Z
SUMMARY:Harris Elementary School Grand Opening
DTSTART:20260428T213000Z
DTEND:20260428T223000Z
ORGANIZER:Austin ISD
DESCRIPTION:Please join Austin ISD in celebrating the grand opening of Harr
	is Elementary School. The new school was made possible by the 2022 Bond Pr
	ogram. Below are the details for the celebration. WHEN:&nbsp;Tuesday\, Apr
	il 28\, 2026 | 4:30 - 5:30 p.m.&nbsp; WHERE:&nbsp;6105 Berkman Drive\, Aus
	tin\, TX 78723 https://bit.ly/CelebrateHarris Únase al Austin ISD para ce
	lebrar la gran inauguración de la Escuela Primaria Harris. La construcci
	ón de la nueva escuela fue posible gracias al Programa de Bonos de 2022. 
	A continuación\, encontrará los detalles de la celebración. CUÁNDO:&nb
	sp;Martes\, 28 de abril de 2026 | 16:30 - 17:30 DÓNDE:&nbsp;6105 Berkman 
	Drive\, Austin\, TX 78723 https://bit.ly/CelebrateHarris
LAST-MODIFIED:20260415T134613Z
END:VEVENT
END:VCALENDAR
